BEGIN:VCALENDAR
VERSION:2.0
PRODID:-//jEvents 2.0 for Joomla//EN
CALSCALE:GREGORIAN
METHOD:PUBLISH
BEGIN:VTIMEZONE
TZID:Europe/Berlin
BEGIN:STANDARD
DTSTART:20311224T230000
RDATE:20320328T030000
TZOFFSETFROM:+0200
TZOFFSETTO:+0100
TZNAME:Europe/Berlin CET
END:STANDARD
END:VTIMEZONE
BEGIN:VEVENT
UID:fd4d26a591188500aa30f30f4f8d1916
CATEGORIES:Alle Ortsteile 
CREATED:20181121T150846
SUMMARY:Christmette
LOCATION:Pfarrkirche Kirchhundem
DESCRIPTION:
CONTACT:kath. Kirchengemeinde
DTSTAMP:20260420T073952Z
DTSTART;TZID=Europe/Berlin:20321224T230000
SEQUENCE:0
TRANSP:OPAQUE
END:VEVENT
END:VCALENDAR